BEGIN:VCALENDAR
VERSION:2.0
PRODID:-//Gary Gerber - ECPv4.6.21//NONSGML v1.0//EN
CALSCALE:GREGORIAN
METHOD:PUBLISH
X-WR-CALNAME:Gary Gerber
X-ORIGINAL-URL:https://healingwithgary.com
X-WR-CALDESC:Events for Gary Gerber
BEGIN:VEVENT
DTSTART;TZID=UTC+0:20181110T080000
DTEND;TZID=UTC+0:20181110T170000
DTSTAMP:20260423T174014
CREATED:20180822T115658Z
LAST-MODIFIED:20180822T121111Z
UID:12812-1541836800-1541869200@healingwithgary.com
SUMMARY:Join my talk today
DESCRIPTION:Gary’s vision is to be a powerful healer\, utilizing the breakthrough science of Life Force energy to increase bioavailability and release blocked potential in living organisms and non-living material. This includes optimizing mental\, physical\, emotional\, spiritual and environmental well being to promote happiness and joy. This potent energy can alter people’s characteristics\, change behaviour and improve function. He is passionate about making this miracle available to people so they too can enjoy abundance in all areas of life. \nSign up for this event today. \n
URL:https://healingwithgary.com/event/join-my-talk-today/
LOCATION:Ave NE Calgary\, Alberta\, T2E 1P7\, Canada
ATTACH;FMTTYPE=image/jpeg:https://healingwithgary.com/wp-content/uploads/2018/08/Event-banner-3.jpg
ORGANIZER;CN="Gary%20Gerber":MAILTO:garygerber@telus.net
END:VEVENT
END:VCALENDAR